BEGIN:VCALENDAR
VERSION:2.0
PRODID:-//Gabriel Trottier - ECPv6.15.3//NONSGML v1.0//EN
CALSCALE:GREGORIAN
METHOD:PUBLISH
X-WR-CALNAME:Gabriel Trottier
X-ORIGINAL-URL:https://gabrieltrottier.com/?lang=en
X-WR-CALDESC:Events for Gabriel Trottier
REFRESH-INTERVAL;VALUE=DURATION:PT1H
X-Robots-Tag:noindex
X-PUBLISHED-TTL:PT1H
BEGIN:VTIMEZONE
TZID:America/Denver
BEGIN:DAYLIGHT
TZOFFSETFROM:-0700
TZOFFSETTO:-0600
TZNAME:MDT
DTSTART:20240310T090000
END:DAYLIGHT
BEGIN:STANDARD
TZOFFSETFROM:-0600
TZOFFSETTO:-0700
TZNAME:MST
DTSTART:20241103T080000
END:STANDARD
END:VTIMEZONE
BEGIN:VTIMEZONE
TZID:America/Toronto
BEGIN:DAYLIGHT
TZOFFSETFROM:-0500
TZOFFSETTO:-0400
TZNAME:EDT
DTSTART:20230312T070000
END:DAYLIGHT
BEGIN:STANDARD
TZOFFSETFROM:-0400
TZOFFSETTO:-0500
TZNAME:EST
DTSTART:20231105T060000
END:STANDARD
BEGIN:DAYLIGHT
TZOFFSETFROM:-0500
TZOFFSETTO:-0400
TZNAME:EDT
DTSTART:20240310T070000
END:DAYLIGHT
BEGIN:STANDARD
TZOFFSETFROM:-0400
TZOFFSETTO:-0500
TZNAME:EST
DTSTART:20241103T060000
END:STANDARD
END:VTIMEZONE
BEGIN:VTIMEZONE
TZID:Europe/Vienna
BEGIN:DAYLIGHT
TZOFFSETFROM:+0100
TZOFFSETTO:+0200
TZNAME:CEST
DTSTART:20230326T010000
END:DAYLIGHT
BEGIN:STANDARD
TZOFFSETFROM:+0200
TZOFFSETTO:+0100
TZNAME:CET
DTSTART:20231029T010000
END:STANDARD
END:VTIMEZONE
BEGIN:VEVENT
DTSTART;TZID=America/Denver:20241012T193000
DTEND;TZID=America/Denver:20241012T193000
DTSTAMP:20260420T111555
CREATED:20240716T134950Z
LAST-MODIFIED:20240828T013710Z
UID:977-1728761400-1728761400@gabrieltrottier.com
SUMMARY:Buzz Brass: Famous inspirations (Great Falls)
DESCRIPTION:Thanks to outstanding original transcriptions\, rediscover famous compositions from the turn of the 20th century by giants such as Debussy\, Ravel\, Dvořák\, Piazzolla and others\, including Listz’s celebrated Hungarian Rhapsody No. 2. The programme\, as inspired as it is inspiring\, consists of veritable timeless masterpieces that all audiences will be able to appreciate. Come and hear these works under the incomparable new light that Buzz Brass casts upon them!
URL:https://gabrieltrottier.com/calendrier/buzz-brass-famous-inspirations/?lang=en
LOCATION:Mansfield Center for the Performing Arts\, 2 Park Dr S Great Falls\,\, Great Falls\, Montana\, 59401\, USA
CATEGORIES:Chamber Music,Classical music
ORGANIZER;CN="Buzz Cuivres":MAILTO:info@buzzcuivres.com
END:VEVENT
BEGIN:VEVENT
DTSTART;TZID=America/Toronto:20240922T143000
DTEND;TZID=America/Toronto:20240922T163000
DTSTAMP:20260420T111555
CREATED:20241114T064906Z
LAST-MODIFIED:20241114T064906Z
UID:1017-1727015400-1727022600@gabrieltrottier.com
SUMMARY:Orchestre Symphonique du Saguenay Lac-Saint-Jean: Rétrospectives
DESCRIPTION:Sous la direction de Jean-Michel Malouf  \nChloé Dominguez\, violoncelliste \nJean-Michel Malouf ouvre la saison par un concert émouvant rendant hommage aux liens qui se sont tissés entre l’homme et la région. À ses côtés\, la soliste Chloé Dominguez interprètera le Concerto pour violoncelle en mi mineur d’Elgar. Ce concert sera également l’occasion de souligner les 15 ans de Zoom photo festival à Saguenay.   \nAu programme :  \nMendelssohn\, Les Hébrides  \nElgar\, Concerto pour violoncelle en mi mineur  \nSchumann\, Symphonie no 4
URL:https://gabrieltrottier.com/calendrier/orchestre-symphonique-du-saguenay-lac-saint-jean-retrospectives/?lang=en
LOCATION:Théâtre C\, 534 Rue Jacques-Cartier E.\, Chicoutimi\, Québec\, G7H 1Z6\, Canada
CATEGORIES:Classical music,Orchestre
END:VEVENT
BEGIN:VEVENT
DTSTART;TZID=America/Toronto:20240413T193000
DTEND;TZID=America/Toronto:20240413T220000
DTSTAMP:20260420T111555
CREATED:20240306T183007Z
LAST-MODIFIED:20240306T183007Z
UID:893-1713036600-1713045600@gabrieltrottier.com
SUMMARY:Orchestre de l'Université de Montréal: La Resurrection de Mahler
DESCRIPTION:Orchestre de l’UdeM \nJean-François Rivest\, direction \nLayla Claire\, soprano (diplômée) \nMireille Lebel\, mezzo-soprano (diplômée) \nFrançois Ouimet et Matthew Lane\, chefs de chœur \nChœur de l’Orchestre Métropolitain \nChœur collégial de l’École de musique Vincent-d’Indy \nChœur de la Faculté de musique de l’UdeM \nAvec la participation de musicien∙nes de la Haute École de musique de Lausanne (HÉMU) \nPROGRAMME\nMahler\, Symphonie no 2\, « Résurrection » \nPour Mahler\, écrire une symphonie c’était bâtir un monde\, et sa Symphonie « Résurrection » n’échappe pas à la règle. Conçue en cinq mouvements\, cette œuvre monumentale fait appel à un effectif orchestral imposant\, un chœur\, des voix solistes et un orgue. Il n’en fallait pas moins à Mahler pour exprimer sa vision du monde; d’où le caractère épique de l’œuvre. À la marche funèbre initiale répond le grandiose mouvement final construit autour du choral Résurrection. Entre ces deux extrêmes\, un Andante qualifié de « rêve mélancolique » par le compositeur\, un Scherzo aux accents ironiques\, duquel surgissent des réminiscences de fanfares\, de rires ou de cris\, et un quatrième mouvement plus méditatif\, sorte de répit avant la gigantesque explosion finale. C’est à cet incomparable voyage émotionnel que vous convient l’OUM et son chef Jean-François Rivest. Ce concert marquera le départ à la retraite de Jean-François Rivest\, professeur titulaire et directeur artistique de l’OUM depuis 30 ans. \nCe concert marquera le départ à la retraite de Jean-François Rivest\, professeur titulaire et directeur artistique de l’OUM depuis 30 ans.
URL:https://gabrieltrottier.com/calendrier/orchestre-de-luniversite-de-montreal-la-resurrection-de-mahler/?lang=en
LOCATION:Salle Claude-Champagne\, 220 Av. Vincent-D'Indy\, Outremont\, QC\, H2V 2T2\, Canada
CATEGORIES:Classical music,Orchestre
ORGANIZER;CN="Orchestre de l'Universit%C3%A9 de Montr%C3%A9al":MAILTO:grandsensembles@musique.umontreal.ca
END:VEVENT
BEGIN:VEVENT
DTSTART;TZID=America/Toronto:20240407T140000
DTEND;TZID=America/Toronto:20240407T163000
DTSTAMP:20260420T111555
CREATED:20231219T202201Z
LAST-MODIFIED:20231219T202201Z
UID:842-1712498400-1712507400@gabrieltrottier.com
SUMMARY:Sinfonia de Lanaudière: Le Gala Festival Sinfonia
DESCRIPTION:To celebrate our 30th anniversary\, we present the « Gala Festival Sinfonia ». Eight winners of the competition for youg soloists between 16 and 25 years old from the great musical institutions of Quebec. Our great musicians of tomorrow!
URL:https://gabrieltrottier.com/calendrier/sinfonia-de-lanaudiere-le-gala-festival-sinfonia/?lang=en
LOCATION:Théâtre Hector-Charland\, 225 Bd de l'Ange-Gardien\, L'Assomption\, Québec\, J5W 4M6\, Canada
CATEGORIES:Classical music,Orchestre
END:VEVENT
BEGIN:VEVENT
DTSTART;TZID=America/Toronto:20240403T190000
DTEND;TZID=America/Toronto:20240403T213000
DTSTAMP:20260420T111555
CREATED:20240319T163554Z
LAST-MODIFIED:20240319T163554Z
UID:929-1712170800-1712179800@gabrieltrottier.com
SUMMARY:Collectif Radiance: Cynddaredd-Brenddwyd - H. Holliger
DESCRIPTION:Alex Huyghebaert (flute) & Olivier Hébert-Bouchard (piano) \nSonate for flute and piano\, mvt 1 – Johanna Mary \nPablo Jimenez (contrabass) and Annabelle Chouinard (dance) \nTBC \nGabriel Trottier (solo horn) \nCynddaredd-Brenddwyd – H. Holliger
URL:https://gabrieltrottier.com/calendrier/collectif-radiance-cynddaredd-brenddwyd-h-holliger/?lang=en
LOCATION:Kin Musique\, 397 Rue Ste-Catherine Ouest\, Montréal\, Québec\, Canada
CATEGORIES:Classical music,Contemporary music,Recital
END:VEVENT
BEGIN:VEVENT
DTSTART;TZID=America/Toronto:20231209T193000
DTEND;TZID=America/Toronto:20231209T213000
DTSTAMP:20260420T111555
CREATED:20231108T203910Z
LAST-MODIFIED:20231108T203910Z
UID:828-1702150200-1702157400@gabrieltrottier.com
SUMMARY:Orchestre Symphonique de Trois-Rivières: Tradition
DESCRIPTION:Concert réconfort | Les perles du répertoire de Noël \nCélébrez la saison des Fêtes avec ce concert spécialement conçu par notre directeur artistique pour le public de l’OSTR à l’approche de Noël. Grands et petits seront émerveillés ! La musique festive de grands compositeurs sera jumelée à des airs de Noël connus de tous et livrée par les musiciens de l’OSTR et la voix étincelante de la soprano Marianne Lambert. Voilà de quoi créer une ambiance magique ! Personne ne résistera à l’envie de chantonner quelques pièces sous la baguette du chef Jean-Michel Malouf !
URL:https://gabrieltrottier.com/calendrier/orchestre-symphonique-de-trois-rivieres-tradition/?lang=en
LOCATION:Salle J.-Antonio-Thompson\, 374 Rue des Forges\, Trois-Rivières\, Québec\, G9A 5H3\, Canada
CATEGORIES:Christmas,Classical music,Orchestre
ORGANIZER;CN="Orchestre Symphonique de Trois-Rivi%C3%A8res":MAILTO:orchestre@ostr.ca
END:VEVENT
BEGIN:VEVENT
DTSTART;TZID=America/Toronto:20231118T193000
DTEND;TZID=America/Toronto:20231118T213000
DTSTAMP:20260420T111555
CREATED:20231019T040655Z
LAST-MODIFIED:20231019T040655Z
UID:805-1700335800-1700343000@gabrieltrottier.com
SUMMARY:Orchestre Symphonique de Trois-Rivières: Fantastique
DESCRIPTION:José Evangelista: Ouverture – Symphonie minute \nErich Wolfgang Korngold: Violin concerto in D majeur\, op. 35 \nHector Berlioz: Symphonie Fantastique
URL:https://gabrieltrottier.com/calendrier/orchestre-symphonique-de-trois-rivieres-fantastique/?lang=en
LOCATION:Salle J.-Antonio-Thompson\, 374 Rue des Forges\, Trois-Rivières\, Québec\, G9A 5H3\, Canada
CATEGORIES:Classical music,Contemporary music,Orchestre
ORGANIZER;CN="Orchestre Symphonique de Trois-Rivi%C3%A8res":MAILTO:orchestre@ostr.ca
END:VEVENT
BEGIN:VEVENT
DTSTART;TZID=America/Toronto:20231104T193000
DTEND;TZID=America/Toronto:20231104T220000
DTSTAMP:20260420T111555
CREATED:20231002T024616Z
LAST-MODIFIED:20231002T025356Z
UID:794-1699126200-1699135200@gabrieltrottier.com
SUMMARY:Orchestre Philharmonique & Choeur des Mélomanes: Beethoven Symphony No. 9 .
DESCRIPTION:Découvrez le grand chef-d’œuvre choral symphonique de Beethoven avec son célèbre Hymne à la Joie\, dans une interprétation majestueuse de L’Orchestre Philharmonique et Chœur des Mélomanes. Cette œuvre transcendante rassemble toute l’humanité depuis plus de 200 ans avec sa musique grandiose et sa poésie\, délivrant le puissant message de la liberté! \nCe concert comprendra également la Ballade pour orchestre Op.33 de Samuel Coleridge-Taylor et l’une des plus belles œuvres chorales de Brahms\, Schicksalslied (Chant du destin). \nPour l’occasion\, la soprano Sydney Baedke\, la mezzo-soprano Simona Genga\, le ténor John Mac Master et le baryton Brett Polegato uniront leurs voix à celles de 100 choristes\, accompagnés de 60 musiciens sur scène\, sous la direction de Francis Choiniere. \nProgram:  \nSamuel Coleridge-Taylor – Ballade for orchestra\, Op.33 \nJohannes Brahms – Schicksalslied (Song of Destiny)\, Op. 54 \nEntracte \nLudwig van Beethoven – Symphony no. 9
URL:https://gabrieltrottier.com/calendrier/orchestre-philharmonique-choeur-des-melomanes-la-symphonie-no-9-de-beethoven/?lang=en
LOCATION:Maison Symphonique\, 1600 Rue Saint-Urbain\, Montréal\,\, Québec\, H2X 0S1\, Canada
CATEGORIES:Classical music,Orchestre
END:VEVENT
BEGIN:VEVENT
DTSTART;TZID=America/Toronto:20230924T140000
DTEND;TZID=America/Toronto:20230924T170000
DTSTAMP:20260420T111555
CREATED:20230913T113503Z
LAST-MODIFIED:20230913T113503Z
UID:778-1695564000-1695574800@gabrieltrottier.com
SUMMARY:Sinfonia de Lanaudière: Début épique\, Kerson Leong\, Tchaikovsky et Beethoven
DESCRIPTION:P. I. Tchaikovsky: Violin concerto
URL:https://gabrieltrottier.com/calendrier/sinfonia-de-lanaudiere-debut-epique-kerson-leong-tchaikovsky-et-beethoven/?lang=en
LOCATION:Théâtre Hector-Charland\, 225 Bd de l'Ange-Gardien\, L'Assomption\, Québec\, J5W 4M6\, Canada
CATEGORIES:Classical music
END:VEVENT
BEGIN:VEVENT
DTSTART;TZID=Europe/Vienna:20230716T200000
DTEND;TZID=Europe/Vienna:20230716T220000
DTSTAMP:20260420T111555
CREATED:20230608T030322Z
LAST-MODIFIED:20230608T030322Z
UID:734-1689537600-1689544800@gabrieltrottier.com
SUMMARY:Grafenegg Academy Orchestra: Orchestra Concert
DESCRIPTION:Grafenegg Academy Orchestra\nAlina Ibragimova\, violin\nColin Currie\, conductor\nHåkan Hardenberger\, conductor\nAndrej Power\, concertmaster \nJOSEPH HAYDN\nSymphoie in D major Hob. I:101 «The Clock» \nHK GRUBER\n«Nebelsteinmusik» Concerto No. 2 for violin and strings \nGYÖRGY LIGETI\n«Melodien» for orchestra \nBÉLA BARTÓK\nDance Suite for orchestra
URL:https://gabrieltrottier.com/calendrier/grafenegg-academy-orchestra-orchestra-concert/?lang=en
LOCATION:Québec
CATEGORIES:Classical music,Contemporary music
END:VEVENT
BEGIN:VEVENT
DTSTART;TZID=Europe/Vienna:20230716T180000
DTEND;TZID=Europe/Vienna:20230716T190000
DTSTAMP:20260420T111555
CREATED:20230608T025142Z
LAST-MODIFIED:20230608T025142Z
UID:730-1689530400-1689534000@gabrieltrottier.com
SUMMARY:Grafenegg Academy Orchestra: Prélude 2
DESCRIPTION:Ensemble of the Grafenegg Academy\nChristoph Moser\, clarinet\nHåkan Hardenberger\, conductor\nAlina Ibragimova\, concertmaster \nLOTTA WENNÄKOSKI\n«Suka» \nPHILIPPE MANOURY\n«Musique II» for Brass and Percussion op. 14 14 \nBÉLA BARTÓK\nDivertimento for Strings
URL:https://gabrieltrottier.com/calendrier/grafenegg-academy-orchestra-prelude-2/?lang=en
LOCATION:Grafenegg Schlosshof\, Grafenegg 10\, Grafenegg\, 3485\, Autriche
CATEGORIES:Classical music,Contemporary music
END:VEVENT
BEGIN:VEVENT
DTSTART;TZID=Europe/Vienna:20230715T180000
DTEND;TZID=Europe/Vienna:20230715T190000
DTSTAMP:20260420T111555
CREATED:20230608T023942Z
LAST-MODIFIED:20230608T024810Z
UID:719-1689444000-1689447600@gabrieltrottier.com
SUMMARY:Grafenegg Academy Orchestra: Prélude 1
DESCRIPTION:Ensemble of the Grafenegg Academy\nRobin Michael\, cello\nHåkan Hardenberger\, conductor\nColin Currie\, conductor\nBenjamin Goldscheider\, horn \nJOHANN SEBASTIAN BACH\nBrandenburg Concerto No. 3 in G major BWV 1048 \nHK GRUBER\n«3 MOB Pieces» for Trumpet and Small Orchestra \nGYÖRGY LIGETI\n«Hamburg Concerto» for Horn and Chamber Orchestra
URL:https://gabrieltrottier.com/calendrier/grafenegg-academy-orchestra-prelude/?lang=en
LOCATION:Grafenegg Reitschule\, Grafenegg 11-12\, Grafenegg\, 3485\, Autriche
CATEGORIES:Classical music,Contemporary music
END:VEVENT
BEGIN:VEVENT
DTSTART;TZID=America/Toronto:20230520T193000
DTEND;TZID=America/Toronto:20230520T213000
DTSTAMP:20260420T111555
CREATED:20230202T215553Z
LAST-MODIFIED:20230202T220317Z
UID:615-1684611000-1684618200@gabrieltrottier.com
SUMMARY:Orchestre Philharmonique & Choeur des Mélomanes: Sea symphony
DESCRIPTION:
URL:https://gabrieltrottier.com/calendrier/orchestre-philharmonique-choeur-des-melomanes-sea-symphony/?lang=en
LOCATION:Maison Symphonique\, 1600 Rue Saint-Urbain\, Montréal\,\, Québec\, H2X 0S1\, Canada
CATEGORIES:Classical music
END:VEVENT
BEGIN:VEVENT
DTSTART;TZID=America/Toronto:20230422T200000
DTEND;TZID=America/Toronto:20230422T220000
DTSTAMP:20260420T111555
CREATED:20230412T032517Z
LAST-MODIFIED:20230412T032517Z
UID:676-1682193600-1682200800@gabrieltrottier.com
SUMMARY:Choeur de Laval: Verdi's Requiem
DESCRIPTION:
URL:https://gabrieltrottier.com/calendrier/choeur-de-laval-verdis-requiem/?lang=en
LOCATION:Église de Saint-Vincent-de-Paul\, 5443 Boul Lévesque E\, Laval\, Québec\, H7C 1N8\, Canada
CATEGORIES:Classical music
ORGANIZER;CN="Choeur de Laval":MAILTO:contact@choeurdelaval.ca
END:VEVENT
BEGIN:VEVENT
DTSTART;TZID=America/Toronto:20230409T093000
DTEND;TZID=America/Toronto:20230409T103000
DTSTAMP:20260420T111555
CREATED:20230412T031343Z
LAST-MODIFIED:20230412T031343Z
UID:671-1681032600-1681036200@gabrieltrottier.com
SUMMARY:Easter Mass (works by Mozart and Telemann)
DESCRIPTION:Angelica Tombs and Gabriel Trottier\, horn \nSuzanne Ozorak\, organ
URL:https://gabrieltrottier.com/calendrier/easter-mass-works-by-mozart-and-telemann/?lang=en
LOCATION:Église de Saint-Lambert\, 41 Av. Lorne\, Saint-Lambert\, Québec\, J4P 2G7\, Canada
CATEGORIES:Baroque music,Classical music
END:VEVENT
BEGIN:VEVENT
DTSTART;TZID=America/Toronto:20230311T193000
DTEND;TZID=America/Toronto:20230311T193000
DTSTAMP:20260420T111555
CREATED:20230310T181951Z
LAST-MODIFIED:20230310T181951Z
UID:658-1678563000-1678563000@gabrieltrottier.com
SUMMARY:St. Lawrence Choir: Psalmae
DESCRIPTION:Zoltán Kodály: Psalmus Hungaricus \nMax Reger: Psalm 100
URL:https://gabrieltrottier.com/calendrier/st-lawrence-choir-psalmae/?lang=en
LOCATION:Maison Symphonique\, 1600 Rue Saint-Urbain\, Montréal\,\, Québec\, H2X 0S1\, Canada
CATEGORIES:Classical music
END:VEVENT
END:VCALENDAR