BEGIN:VCALENDAR
VERSION:2.0
PRODID:-//Gabriel Trottier - ECPv6.15.3//NONSGML v1.0//EN
CALSCALE:GREGORIAN
METHOD:PUBLISH
X-WR-CALNAME:Gabriel Trottier
X-ORIGINAL-URL:https://gabrieltrottier.com
X-WR-CALDESC:Évènements pour Gabriel Trottier
REFRESH-INTERVAL;VALUE=DURATION:PT1H
X-Robots-Tag:noindex
X-PUBLISHED-TTL:PT1H
BEGIN:VTIMEZONE
TZID:America/Toronto
BEGIN:DAYLIGHT
TZOFFSETFROM:-0500
TZOFFSETTO:-0400
TZNAME:EDT
DTSTART:20260308T070000
END:DAYLIGHT
BEGIN:STANDARD
TZOFFSETFROM:-0400
TZOFFSETTO:-0500
TZNAME:EST
DTSTART:20261101T060000
END:STANDARD
END:VTIMEZONE
BEGIN:VEVENT
DTSTART;TZID=America/Toronto:20260521T193000
DTEND;TZID=America/Toronto:20260521T220000
DTSTAMP:20260419T235300
CREATED:20251114T155838Z
LAST-MODIFIED:20251114T155838Z
UID:1231-1779391800-1779400800@gabrieltrottier.com
SUMMARY:Société de Musique Contemporaine du Québec: Dialogues intergénérationnels – Carte Blanche à Cristian Gort
DESCRIPTION:Œuvres de Gilbert\, Le Bel\, Leroux\, Rea et Tremblay. \nPour le dernier concert de sa série hommage spéciale 60e anniversaire\, la SMCQ donne carte blanche au chef titulaire de l’Ensemble de la SMCQ\, Cristian Gort\, dans un programme qui\, à l’instar de l’ensemble de sa saison\, met en synergie les œuvres de plusieurs générations de compositeurs. Ce programme comportera notamment une création d’une commande de la SMCQ au compositeur Frédéric Lebel. Un concert qui s’annonce fascinant et explosif!
URL:https://gabrieltrottier.com/calendrier/societe-de-musique-contemporaine-du-quebec-dialogues-intergenerationnels-carte-blanche-a-cristian-gort/
LOCATION:Salle Pierre Mercure\, 300\, boulevard de Maisonneuve Est\, Montréal\, Québec\, H2X 3X6\, Canada
CATEGORIES:Musique contemporaine
END:VEVENT
END:VCALENDAR