BEGIN:VCALENDAR
VERSION:2.0
PRODID:-//Gabriel Trottier - ECPv6.15.3//NONSGML v1.0//EN
CALSCALE:GREGORIAN
METHOD:PUBLISH
X-WR-CALNAME:Gabriel Trottier
X-ORIGINAL-URL:https://gabrieltrottier.com
X-WR-CALDESC:Évènements pour Gabriel Trottier
REFRESH-INTERVAL;VALUE=DURATION:PT1H
X-Robots-Tag:noindex
X-PUBLISHED-TTL:PT1H
BEGIN:VTIMEZONE
TZID:America/Toronto
BEGIN:DAYLIGHT
TZOFFSETFROM:-0500
TZOFFSETTO:-0400
TZNAME:EDT
DTSTART:20260308T070000
END:DAYLIGHT
BEGIN:STANDARD
TZOFFSETFROM:-0400
TZOFFSETTO:-0500
TZNAME:EST
DTSTART:20261101T060000
END:STANDARD
END:VTIMEZONE
BEGIN:VEVENT
DTSTART;TZID=America/Toronto:20260314T193000
DTEND;TZID=America/Toronto:20260314T213000
DTSTAMP:20260420T072129
CREATED:20260116T185116Z
LAST-MODIFIED:20260116T185116Z
UID:1258-1773516600-1773523800@gabrieltrottier.com
SUMMARY:Orchestres Symphonique de Trois-Rivières: Le Roi des instruments
DESCRIPTION:Le très célèbre Adagio d’Albinoni\, la Symphonie no3 « avec orgue » de Saint-Saëns\, ainsi que le magnifique concerto d’orgue du compositeur trifluvien Jacques Hétu composent un programme grandiose où l’orgue prend toute sa place. Pour ce concert unique\, le roi des instruments résonnera dans toute sa splendeur\, une occasion rare d’entendre le majestueux orgue de la Cathédrale de l’Assomption de Trois-Rivières. Et pour faire vibrer ce monument musical\, nous accueillerons un artiste de renommée internationale\, Jean-Willy Kunz\, premier organiste de l’Orchestre symphonique de Montréal. Une soirée monumentale en perspective! \nProgramme: \nJacques Hétu\nConcerto pour orgue\, opus 68 \nCamille Saint-Saëns\nSymphonie no3 en do mineur\, dite «avec orgue»\, op.78 \nTomaso Albinoni\nAdagio pour orchestre à cordes et orgue en sol mineur
URL:https://gabrieltrottier.com/calendrier/orchestres-symphonique-de-trois-rivieres-le-roi-des-instruments/
LOCATION:Cathédrale de l’Assomption de Trois-Rivières\, 362 Rue Bonaventure\, Trois-Rivières\, Québec\, G9A 5J9\, Canada
CATEGORIES:Musique romantique,Orchestre
ORGANIZER;CN="Orchestre Symphonique de Trois-Rivi%C3%A8res":MAILTO:orchestre@ostr.ca
END:VEVENT
END:VCALENDAR