BEGIN:VCALENDAR
VERSION:2.0
PRODID:-//Gabriel Trottier - ECPv6.15.3//NONSGML v1.0//EN
CALSCALE:GREGORIAN
METHOD:PUBLISH
X-ORIGINAL-URL:https://gabrieltrottier.com
X-WR-CALDESC:Évènements pour Gabriel Trottier
REFRESH-INTERVAL;VALUE=DURATION:PT1H
X-Robots-Tag:noindex
X-PUBLISHED-TTL:PT1H
BEGIN:VTIMEZONE
TZID:America/Toronto
BEGIN:DAYLIGHT
TZOFFSETFROM:-0500
TZOFFSETTO:-0400
TZNAME:EDT
DTSTART:20260308T070000
END:DAYLIGHT
BEGIN:STANDARD
TZOFFSETFROM:-0400
TZOFFSETTO:-0500
TZNAME:EST
DTSTART:20261101T060000
END:STANDARD
END:VTIMEZONE
BEGIN:VEVENT
DTSTART;TZID=America/Toronto:20260222T140000
DTEND;TZID=America/Toronto:20260222T170000
DTSTAMP:20260424T052717
CREATED:20251114T160855Z
LAST-MODIFIED:20260106T222714Z
UID:1236-1771768800-1771779600@gabrieltrottier.com
SUMMARY:La Sinfonia de Lanaudière présente  l’amour avec Mélissa Bédard et Emmanuel Laforest
DESCRIPTION:La Sinfonia de Lanaudière vous convie à un concert empreint de douceur et de passion avec la puissante voix de Mélissa Bédard et le talent exceptionnel du pianiste Emmanuel Laforest. Laissez-vous transporter par les plus grandes chansons et thèmes d’amour\, avec au programme des œuvres de Rachmaninov\, Tchaïkovski et des chansons d’amour intemporelles.
URL:https://gabrieltrottier.com/calendrier/la-sinfonia-de-lanaudiere-presente-lamour-avec-melissa-bedard-et-emmanuel-laforest/
LOCATION:Théâtre Hector-Charland\, 225 Bd de l'Ange-Gardien\, L'Assomption\, Québec\, J5W 4M6\, Canada
CATEGORIES:Orchestre
END:VEVENT
END:VCALENDAR