BEGIN:VCALENDAR
VERSION:2.0
PRODID:-//Gabriel Trottier - ECPv6.15.3//NONSGML v1.0//EN
CALSCALE:GREGORIAN
METHOD:PUBLISH
X-WR-CALNAME:Gabriel Trottier
X-ORIGINAL-URL:https://gabrieltrottier.com/?lang=en
X-WR-CALDESC:Events for Gabriel Trottier
REFRESH-INTERVAL;VALUE=DURATION:PT1H
X-Robots-Tag:noindex
X-PUBLISHED-TTL:PT1H
BEGIN:VTIMEZONE
TZID:America/Toronto
BEGIN:DAYLIGHT
TZOFFSETFROM:-0500
TZOFFSETTO:-0400
TZNAME:EDT
DTSTART:20260308T070000
END:DAYLIGHT
BEGIN:STANDARD
TZOFFSETFROM:-0400
TZOFFSETTO:-0500
TZNAME:EST
DTSTART:20261101T060000
END:STANDARD
END:VTIMEZONE
BEGIN:VEVENT
DTSTART;TZID=America/Toronto:20260222T140000
DTEND;TZID=America/Toronto:20260222T170000
DTSTAMP:20260420T102404
CREATED:20251114T160855Z
LAST-MODIFIED:20260106T222800Z
UID:1239-1771768800-1771779600@gabrieltrottier.com
SUMMARY:La Sinfonia de Lanaudière presents l'amour with Mélissa Bédard and Emmanuel Laforest
DESCRIPTION:Sinfonia de Lanaudière invites you to a concert of sweetness and passion\, featuring the powerful voice of Mélissa Bédard and the exceptional talent of pianist Emmanuel Laforest. Let yourself be transported by the greatest love songs and themes\, with works by Rachmaninov\, Tchaikovsky and timeless love songs on the program.
URL:https://gabrieltrottier.com/calendrier/la-sinfonia-de-lanaudiere-presente-lamour-avec-melissa-bedard-et-emmanuel-laforest/?lang=en
LOCATION:Théâtre Hector-Charland\, 225 Bd de l'Ange-Gardien\, L'Assomption\, Québec\, J5W 4M6\, Canada
CATEGORIES:Orchestre
END:VEVENT
END:VCALENDAR