BEGIN:VCALENDAR
VERSION:2.0
PRODID:-//Gabriel Trottier - ECPv6.15.3//NONSGML v1.0//EN
CALSCALE:GREGORIAN
METHOD:PUBLISH
X-WR-CALNAME:Gabriel Trottier
X-ORIGINAL-URL:https://gabrieltrottier.com/?lang=en
X-WR-CALDESC:Events for Gabriel Trottier
REFRESH-INTERVAL;VALUE=DURATION:PT1H
X-Robots-Tag:noindex
X-PUBLISHED-TTL:PT1H
BEGIN:VTIMEZONE
TZID:America/Toronto
BEGIN:DAYLIGHT
TZOFFSETFROM:-0500
TZOFFSETTO:-0400
TZNAME:EDT
DTSTART:20260308T070000
END:DAYLIGHT
BEGIN:STANDARD
TZOFFSETFROM:-0400
TZOFFSETTO:-0500
TZNAME:EST
DTSTART:20261101T060000
END:STANDARD
END:VTIMEZONE
BEGIN:VEVENT
DTSTART;TZID=America/Toronto:20260214T143000
DTEND;TZID=America/Toronto:20260214T170000
DTSTAMP:20260420T102417
CREATED:20260204T193113Z
LAST-MODIFIED:20260204T193113Z
UID:1270-1771079400-1771088400@gabrieltrottier.com
SUMMARY:Orchestre Symphonique de Québec: La Saint-Valentin avec Roméo et Juliette
DESCRIPTION:Ce concert en forme de tour musical d’Europe débute en Italie avec le Preludio sinfonico que Puccini a composé alors qu’il étudiait au Conservatoire de Milan. Cette partition visionnaire et emportée annonce d’ailleurs de futurs chefs-d’œuvre. Pablo Sainz-Villegas\, un des plus grands guitaristes de notre temps\, poursuit le voyage en Espagne avec le fameux Concierto de Aranjuez de Rodrigo. Inspiré par les jardins royaux d’un pays qui\, en 1939\, sortait à peine de la guerre civile\, ce concerto iconique précède un autre enchantement musical sur une toile de fond bucolique : le Songe d’une nuit d’été de Mendelssohn. La pièce de Shakespeare donne l’occasion au compositeur de déployer tout un univers féérique\, ou la célébrissime Marche nuptiale honore le triomphe de l’amour.\nLe périple musical s’achève en Russie\, avec une autre partition inspirée par le dramaturge anglais : Roméo et Juliette\, de Tchaïkovski. L’Ouverture-fantaisie est en réalité un poème symphonique qui sublime les thèmes de la célèbre tragédie : on est bouleversé par l’intensité émotionnelle d’une des œuvres les plus emblématiques du romantisme.      \nNil Venditti\, cheffe\nPablo Sainz-Villegas\, guitare\nMylène Paquette\, invitée carte blanche \nPuccini : Preludio sinfonico\nRodrigo : Concierto de Aranjuez\nMendelssohn : Songe d’une nuit d’été\, extraits : Ouverture\, Scherzo et Marche nuptiale\nTchaïkovski : Roméo et Juliette\, Ouverture-fantaisie (version 1880)
URL:https://gabrieltrottier.com/calendrier/orchestre-symphonique-de-quebec-la-saint-valentin-avec-romeo-et-juliette/?lang=en
LOCATION:Grand Théatre de Québec\, 269 Bd René-Lévesque E.\, Québec\, QC\, G1R 2B3\, Canada
CATEGORIES:Orchestre,Romantic music
END:VEVENT
END:VCALENDAR